BEGIN:VCALENDAR
VERSION:2.0
PRODID:-//BILD Lethbridge - ECPv6.0.13//NONSGML v1.0//EN
CALSCALE:GREGORIAN
METHOD:PUBLISH
X-ORIGINAL-URL:https://bildlethbridge.ca
X-WR-CALDESC:Events for BILD Lethbridge
REFRESH-INTERVAL;VALUE=DURATION:PT1H
X-Robots-Tag:noindex
X-PUBLISHED-TTL:PT1H
BEGIN:VTIMEZONE
TZID:America/Edmonton
BEGIN:DAYLIGHT
TZOFFSETFROM:-0700
TZOFFSETTO:-0600
TZNAME:MDT
DTSTART:20190310T090000
END:DAYLIGHT
BEGIN:STANDARD
TZOFFSETFROM:-0600
TZOFFSETTO:-0700
TZNAME:MST
DTSTART:20191103T080000
END:STANDARD
END:VTIMEZONE
BEGIN:VEVENT
DTSTART;TZID=America/Edmonton:20190228T160000
DTEND;TZID=America/Edmonton:20190228T180000
DTSTAMP:20260419T185301
CREATED:20190127T022030Z
LAST-MODIFIED:20190127T022200Z
UID:3642-1551369600-1551376800@bildlethbridge.ca
SUMMARY:Annual General Meeting
DESCRIPTION:Guest Speaker – Bramwell Strain\, City Manager \nPresentation of 2017-2018 Financial Statements \nYear In Review \nRSVP at diana@bildlethbridge.ca \n 
URL:https://bildlethbridge.ca/event/annual-general-meeting/
LOCATION:Sandman Hotel Mayor Magrath\, 421 Mayor Magrath Drive\, Lethbridge\, Alberta\, T1J3L8\, Canada
END:VEVENT
END:VCALENDAR