BEGIN:VCALENDAR
VERSION:2.0
PRODID:-//BILD Lethbridge - ECPv6.0.13//NONSGML v1.0//EN
CALSCALE:GREGORIAN
METHOD:PUBLISH
X-ORIGINAL-URL:https://bildlethbridge.ca
X-WR-CALDESC:Events for BILD Lethbridge
REFRESH-INTERVAL;VALUE=DURATION:PT1H
X-Robots-Tag:noindex
X-PUBLISHED-TTL:PT1H
BEGIN:VTIMEZONE
TZID:America/Edmonton
BEGIN:DAYLIGHT
TZOFFSETFROM:-0700
TZOFFSETTO:-0600
TZNAME:MDT
DTSTART:20190310T090000
END:DAYLIGHT
BEGIN:STANDARD
TZOFFSETFROM:-0600
TZOFFSETTO:-0700
TZNAME:MST
DTSTART:20191103T080000
END:STANDARD
END:VTIMEZONE
BEGIN:VEVENT
DTSTART;TZID=America/Edmonton:20190320T130000
DTEND;TZID=America/Edmonton:20190323T170000
DTSTAMP:20260419T161010
CREATED:20190306T224836Z
LAST-MODIFIED:20190306T224836Z
UID:3840-1553086800-1553360400@bildlethbridge.ca
SUMMARY:Home & Garden Show
DESCRIPTION:The 2019 Home and Garden show is jointly presented by Exhibition Park and BILD Lethbridge Region. Guests to the show can find a variety of exhibitors\, ranging from flooring and cabinets\, to hot tubs and fireplaces\, to landscapers and greenhouses\, and much more. It’s the largest Home and Garden show in Southern Alberta\, and the variety of products is almost endless! \nFeaturing a conversation with Sebastian Clovis\, former CFL players and star of HGTV Canada’s Tackle My Reno\, Save My Reno\, Home to Win and the resident DIY expert on The Marilyn Denis Show \nFor no other reason\, visit this show to see the amazing display of landscapers! You’ll find waterfalls in the middle of our buildings! Trees that seemingly grow out of the cement floor! And decks that you can only dream about! \nGet tickets online! \nMarch 20-March 22 1 -8 pm\nMarch 23 10 am – 5 pm \n 
URL:https://bildlethbridge.ca/event/home-garden-show/
END:VEVENT
END:VCALENDAR