BEGIN:VCALENDAR
VERSION:2.0
PRODID:-//BILD Lethbridge - ECPv6.0.13//NONSGML v1.0//EN
CALSCALE:GREGORIAN
METHOD:PUBLISH
X-ORIGINAL-URL:https://bildlethbridge.ca
X-WR-CALDESC:Events for BILD Lethbridge
REFRESH-INTERVAL;VALUE=DURATION:PT1H
X-Robots-Tag:noindex
X-PUBLISHED-TTL:PT1H
BEGIN:VTIMEZONE
TZID:America/Edmonton
BEGIN:DAYLIGHT
TZOFFSETFROM:-0700
TZOFFSETTO:-0600
TZNAME:MDT
DTSTART:20190310T090000
END:DAYLIGHT
BEGIN:STANDARD
TZOFFSETFROM:-0600
TZOFFSETTO:-0700
TZNAME:MST
DTSTART:20191103T080000
END:STANDARD
END:VTIMEZONE
BEGIN:VEVENT
DTSTART;TZID=America/Edmonton:20190906T080000
DTEND;TZID=America/Edmonton:20190906T093000
DTSTAMP:20260420T020425
CREATED:20190903T220445Z
LAST-MODIFIED:20190903T220445Z
UID:4815-1567756800-1567762200@bildlethbridge.ca
SUMMARY:Parade of Homes Champagne Breakfast
DESCRIPTION:Members Only \nA Parade of Homes kick off champagne breakfast to wish our participating builders a great parade. They have worked hard to bring Lethbridge 24 innovate homes in 8 communities.
URL:https://bildlethbridge.ca/event/parade-of-homes-champagne-breakfast/
END:VEVENT
END:VCALENDAR