BEGIN:VCALENDAR
VERSION:2.0
PRODID:-//BILD Lethbridge - ECPv6.0.13//NONSGML v1.0//EN
CALSCALE:GREGORIAN
METHOD:PUBLISH
X-WR-CALNAME:BILD Lethbridge
X-ORIGINAL-URL:https://bildlethbridge.ca
X-WR-CALDESC:Events for BILD Lethbridge
REFRESH-INTERVAL;VALUE=DURATION:PT1H
X-Robots-Tag:noindex
X-PUBLISHED-TTL:PT1H
BEGIN:VTIMEZONE
TZID:America/Edmonton
BEGIN:DAYLIGHT
TZOFFSETFROM:-0700
TZOFFSETTO:-0600
TZNAME:MDT
DTSTART:20190310T090000
END:DAYLIGHT
BEGIN:STANDARD
TZOFFSETFROM:-0600
TZOFFSETTO:-0700
TZNAME:MST
DTSTART:20191103T080000
END:STANDARD
END:VTIMEZONE
BEGIN:VEVENT
DTSTART;VALUE=DATE:20190907
DTEND;VALUE=DATE:20190923
DTSTAMP:20260420T064103
CREATED:20190504T200812Z
LAST-MODIFIED:20190903T215914Z
UID:3977-1567814400-1569196799@bildlethbridge.ca
SUMMARY:2019 Parade of Homes
DESCRIPTION:Show Home Hours:\nMonday – Friday 4 – 8 pm\nSaturday & Sunday 1 – 5 pm \n 
URL:https://bildlethbridge.ca/event/2019-parade-of-homes/
END:VEVENT
BEGIN:VEVENT
DTSTART;TZID=America/Edmonton:20190912T080000
DTEND;TZID=America/Edmonton:20190912T093000
DTSTAMP:20260420T064103
CREATED:20190809T170959Z
LAST-MODIFIED:20190815T145922Z
UID:4666-1568275200-1568280600@bildlethbridge.ca
SUMMARY:Builder Breakfast Series: Key Changes in the National Building Code - 2019 AB Edition
DESCRIPTION:Speaker: Matthew Armstrong\, BILD Alberta \nSeries 1\nJoin us on September 12\, 2019 for an update on key changes in the in the National Building Code – 2019 Alberta Edition. This presentation will focus on part 9; construction. Additional topics will include: the national code development process\, a brief highlight of key prospective changes to future code editions\, and information on how you can get more involved in impacting what future building codes look like. \n$25 / ticket for BILD members\n$30 / ticket for non-members \nRSVP to diana@bildlethbridge.ca by September 9\, 2019. \n• Pre-registration required – NO REFUNDS WITHIN 48 HOURS OF THE EVENT\n• Continental breakfast included (Pastries\, Coffee)\n• Seating is limited\n• No-shows will be billed
URL:https://bildlethbridge.ca/event/builder-breakfast-series-1-key-changes-in-the-national-building-code-2019-ab-edition/
LOCATION:The Nest (Honkers Pub)\, 2808 5th Avenue North\, Lethbridge\, Alberta\, T1H 0P1\, Canada
ATTACH;FMTTYPE=image/png:https://bildlethbridge.ca/wp-content/uploads/2019/08/Builder-Breakfast-Series-1-NEW.png
END:VEVENT
END:VCALENDAR