BEGIN:VCALENDAR
VERSION:2.0
PRODID:-//BILD Lethbridge - ECPv6.0.13//NONSGML v1.0//EN
CALSCALE:GREGORIAN
METHOD:PUBLISH
X-ORIGINAL-URL:https://bildlethbridge.ca
X-WR-CALDESC:Events for BILD Lethbridge
REFRESH-INTERVAL;VALUE=DURATION:PT1H
X-Robots-Tag:noindex
X-PUBLISHED-TTL:PT1H
BEGIN:VTIMEZONE
TZID:America/Edmonton
BEGIN:DAYLIGHT
TZOFFSETFROM:-0700
TZOFFSETTO:-0600
TZNAME:MDT
DTSTART:20190310T090000
END:DAYLIGHT
BEGIN:STANDARD
TZOFFSETFROM:-0600
TZOFFSETTO:-0700
TZNAME:MST
DTSTART:20191103T080000
END:STANDARD
END:VTIMEZONE
BEGIN:VEVENT
DTSTART;TZID=America/Edmonton:20191114T150000
DTEND;TZID=America/Edmonton:20191114T170000
DTSTAMP:20260420T081148
CREATED:20191025T213044Z
LAST-MODIFIED:20191025T213044Z
UID:4901-1573743600-1573750800@bildlethbridge.ca
SUMMARY:President's Reception
DESCRIPTION:Another year has come and gone! Please join us to raise a glass and celebrate the achievements of President Joey Baranyay.  \nRSVP to diana@bildlethbridge.ca by November 8\, 2019
URL:https://bildlethbridge.ca/event/presidents-reception/
LOCATION:Hudsons Canada’s Pub\, 904 2 Avenue S\, Lethbridge\, Alberta\, T1J 0C6\, Canada
ATTACH;FMTTYPE=image/jpeg:https://bildlethbridge.ca/wp-content/uploads/2019/10/Presidents-Reception-Invite-2019.jpg
END:VEVENT
END:VCALENDAR