BEGIN:VCALENDAR
VERSION:2.0
PRODID:-//BILD Lethbridge - ECPv6.0.13//NONSGML v1.0//EN
CALSCALE:GREGORIAN
METHOD:PUBLISH
X-WR-CALNAME:BILD Lethbridge
X-ORIGINAL-URL:https://bildlethbridge.ca
X-WR-CALDESC:Events for BILD Lethbridge
REFRESH-INTERVAL;VALUE=DURATION:PT1H
X-Robots-Tag:noindex
X-PUBLISHED-TTL:PT1H
BEGIN:VTIMEZONE
TZID:America/Edmonton
BEGIN:DAYLIGHT
TZOFFSETFROM:-0700
TZOFFSETTO:-0600
TZNAME:MDT
DTSTART:20200308T090000
END:DAYLIGHT
BEGIN:STANDARD
TZOFFSETFROM:-0600
TZOFFSETTO:-0700
TZNAME:MST
DTSTART:20201101T080000
END:STANDARD
END:VTIMEZONE
BEGIN:VEVENT
DTSTART;TZID=America/Edmonton:20200207T053000
DTEND;TZID=America/Edmonton:20200207T230000
DTSTAMP:20260420T145101
CREATED:20200128T214622Z
LAST-MODIFIED:20200128T214825Z
UID:4938-1581053400-1581116400@bildlethbridge.ca
SUMMARY:Awards of Excellence in Housing
DESCRIPTION:
URL:https://bildlethbridge.ca/event/awards-of-excellence-in-housing/
LOCATION:The Coast Hotel\, 526 Mayor Magrath Drive S\, Lethbridge\, Alberta\, T1J3M2\, Canada
ATTACH;FMTTYPE=image/jpeg:https://bildlethbridge.ca/wp-content/uploads/2020/01/2019-Awards-of-Excellence-Invitation.jpg
END:VEVENT
END:VCALENDAR