BEGIN:VCALENDAR
VERSION:2.0
PRODID:-//BILD Lethbridge - ECPv6.0.13//NONSGML v1.0//EN
CALSCALE:GREGORIAN
METHOD:PUBLISH
X-WR-CALNAME:BILD Lethbridge
X-ORIGINAL-URL:https://bildlethbridge.ca
X-WR-CALDESC:Events for BILD Lethbridge
REFRESH-INTERVAL;VALUE=DURATION:PT1H
X-Robots-Tag:noindex
X-PUBLISHED-TTL:PT1H
BEGIN:VTIMEZONE
TZID:America/Edmonton
BEGIN:DAYLIGHT
TZOFFSETFROM:-0700
TZOFFSETTO:-0600
TZNAME:MDT
DTSTART:20200308T090000
END:DAYLIGHT
BEGIN:STANDARD
TZOFFSETFROM:-0600
TZOFFSETTO:-0700
TZNAME:MST
DTSTART:20201101T080000
END:STANDARD
END:VTIMEZONE
BEGIN:VEVENT
DTSTART;VALUE=DATE:20200318
DTEND;VALUE=DATE:20200322
DTSTAMP:20260420T174024
CREATED:20200128T221559Z
LAST-MODIFIED:20200605T191646Z
UID:4958-1584489600-1584835199@bildlethbridge.ca
SUMMARY:Home & Garden Show - CANCELLED
DESCRIPTION:
URL:https://bildlethbridge.ca/event/home-garden-show-2/
END:VEVENT
END:VCALENDAR