BEGIN:VCALENDAR
VERSION:2.0
PRODID:-//BILD Lethbridge - ECPv6.0.13//NONSGML v1.0//EN
CALSCALE:GREGORIAN
METHOD:PUBLISH
X-ORIGINAL-URL:https://bildlethbridge.ca
X-WR-CALDESC:Events for BILD Lethbridge
REFRESH-INTERVAL;VALUE=DURATION:PT1H
X-Robots-Tag:noindex
X-PUBLISHED-TTL:PT1H
BEGIN:VTIMEZONE
TZID:America/Edmonton
BEGIN:DAYLIGHT
TZOFFSETFROM:-0700
TZOFFSETTO:-0600
TZNAME:MDT
DTSTART:20200308T090000
END:DAYLIGHT
BEGIN:STANDARD
TZOFFSETFROM:-0600
TZOFFSETTO:-0700
TZNAME:MST
DTSTART:20201101T080000
END:STANDARD
END:VTIMEZONE
BEGIN:VEVENT
DTSTART;TZID=America/Edmonton:20200910T090000
DTEND;TZID=America/Edmonton:20200910T110000
DTSTAMP:20260421T001859
CREATED:20200214T001247Z
LAST-MODIFIED:20200924T224015Z
UID:5083-1599728400-1599735600@bildlethbridge.ca
SUMMARY:Builder Council
DESCRIPTION:
URL:https://bildlethbridge.ca/event/builder-council/
LOCATION:BILD Lethbridge boardroom / Zoom\, #14\, 495 WT Hill Blvd\, Lethbridge
END:VEVENT
END:VCALENDAR