BEGIN:VCALENDAR
VERSION:2.0
PRODID:-//BILD Lethbridge - ECPv6.0.13//NONSGML v1.0//EN
CALSCALE:GREGORIAN
METHOD:PUBLISH
X-WR-CALNAME:BILD Lethbridge
X-ORIGINAL-URL:https://bildlethbridge.ca
X-WR-CALDESC:Events for BILD Lethbridge
REFRESH-INTERVAL;VALUE=DURATION:PT1H
X-Robots-Tag:noindex
X-PUBLISHED-TTL:PT1H
BEGIN:VTIMEZONE
TZID:America/Edmonton
BEGIN:DAYLIGHT
TZOFFSETFROM:-0700
TZOFFSETTO:-0600
TZNAME:MDT
DTSTART:20210314T090000
END:DAYLIGHT
BEGIN:STANDARD
TZOFFSETFROM:-0600
TZOFFSETTO:-0700
TZNAME:MST
DTSTART:20211107T080000
END:STANDARD
END:VTIMEZONE
BEGIN:VEVENT
DTSTART;TZID=America/Edmonton:20210202T100000
DTEND;TZID=America/Edmonton:20210202T113000
DTSTAMP:20260421T145227
CREATED:20200214T003341Z
LAST-MODIFIED:20200214T003341Z
UID:5702-1612260000-1612265400@bildlethbridge.ca
SUMMARY:Safety Committee
DESCRIPTION:
URL:https://bildlethbridge.ca/event/safety-committee-2021-02-02/
END:VEVENT
END:VCALENDAR