BEGIN:VCALENDAR
VERSION:2.0
PRODID:-//BILD Lethbridge - ECPv6.0.13//NONSGML v1.0//EN
CALSCALE:GREGORIAN
METHOD:PUBLISH
X-ORIGINAL-URL:https://bildlethbridge.ca
X-WR-CALDESC:Events for BILD Lethbridge
REFRESH-INTERVAL;VALUE=DURATION:PT1H
X-Robots-Tag:noindex
X-PUBLISHED-TTL:PT1H
BEGIN:VTIMEZONE
TZID:America/Edmonton
BEGIN:DAYLIGHT
TZOFFSETFROM:-0700
TZOFFSETTO:-0600
TZNAME:MDT
DTSTART:20250309T090000
END:DAYLIGHT
BEGIN:STANDARD
TZOFFSETFROM:-0600
TZOFFSETTO:-0700
TZNAME:MST
DTSTART:20251102T080000
END:STANDARD
END:VTIMEZONE
BEGIN:VEVENT
DTSTART;TZID=America/Edmonton:20250913T130000
DTEND;TZID=America/Edmonton:20250928T170000
DTSTAMP:20260419T104515
CREATED:20250808T002302Z
LAST-MODIFIED:20250808T002302Z
UID:7452-1757768400-1759078800@bildlethbridge.ca
SUMMARY:2025 Parade of Homes
DESCRIPTION: 
URL:https://bildlethbridge.ca/event/2025-parade-of-homes/
END:VEVENT
END:VCALENDAR