BEGIN:VCALENDAR
VERSION:2.0
PRODID:-//BILD Lethbridge - ECPv6.0.13//NONSGML v1.0//EN
CALSCALE:GREGORIAN
METHOD:PUBLISH
X-ORIGINAL-URL:https://bildlethbridge.ca
X-WR-CALDESC:Events for BILD Lethbridge
REFRESH-INTERVAL;VALUE=DURATION:PT1H
X-Robots-Tag:noindex
X-PUBLISHED-TTL:PT1H
BEGIN:VTIMEZONE
TZID:America/Edmonton
BEGIN:DAYLIGHT
TZOFFSETFROM:-0700
TZOFFSETTO:-0600
TZNAME:MDT
DTSTART:20200308T090000
END:DAYLIGHT
BEGIN:STANDARD
TZOFFSETFROM:-0600
TZOFFSETTO:-0700
TZNAME:MST
DTSTART:20201101T080000
END:STANDARD
END:VTIMEZONE
BEGIN:VEVENT
DTSTART;TZID=America/Edmonton:20201006T100000
DTEND;TZID=America/Edmonton:20201006T113000
DTSTAMP:20260421T074705
CREATED:20200214T003341Z
LAST-MODIFIED:20200924T224854Z
UID:5122-1601978400-1601983800@bildlethbridge.ca
SUMMARY:Safety Committee
DESCRIPTION:
URL:https://bildlethbridge.ca/event/safety-committee/
END:VEVENT
BEGIN:VEVENT
DTSTART;TZID=America/Edmonton:20201019T140000
DTEND;TZID=America/Edmonton:20201019T143000
DTSTAMP:20260421T074705
CREATED:20200924T225118Z
LAST-MODIFIED:20200924T225754Z
UID:5708-1603116000-1603117800@bildlethbridge.ca
SUMMARY:Executive Committee
DESCRIPTION:
URL:https://bildlethbridge.ca/event/executive-committee-2020-10-26/
END:VEVENT
END:VCALENDAR