BEGIN:VCALENDAR
VERSION:2.0
PRODID:-//BILD Lethbridge - ECPv6.0.13//NONSGML v1.0//EN
CALSCALE:GREGORIAN
METHOD:PUBLISH
X-WR-CALNAME:BILD Lethbridge
X-ORIGINAL-URL:https://bildlethbridge.ca
X-WR-CALDESC:Events for BILD Lethbridge
REFRESH-INTERVAL;VALUE=DURATION:PT1H
X-Robots-Tag:noindex
X-PUBLISHED-TTL:PT1H
BEGIN:VTIMEZONE
TZID:America/Edmonton
BEGIN:DAYLIGHT
TZOFFSETFROM:-0700
TZOFFSETTO:-0600
TZNAME:MDT
DTSTART:20210314T090000
END:DAYLIGHT
BEGIN:STANDARD
TZOFFSETFROM:-0600
TZOFFSETTO:-0700
TZNAME:MST
DTSTART:20211107T080000
END:STANDARD
END:VTIMEZONE
BEGIN:VEVENT
DTSTART;TZID=America/Edmonton:20210202T100000
DTEND;TZID=America/Edmonton:20210202T113000
DTSTAMP:20260421T132334
CREATED:20200214T003341Z
LAST-MODIFIED:20200214T003341Z
UID:5702-1612260000-1612265400@bildlethbridge.ca
SUMMARY:Safety Committee
DESCRIPTION:
URL:https://bildlethbridge.ca/event/safety-committee-2021-02-02/
END:VEVENT
BEGIN:VEVENT
DTSTART;TZID=America/Edmonton:20210204T100000
DTEND;TZID=America/Edmonton:20210204T110000
DTSTAMP:20260421T132334
CREATED:20200128T222902Z
LAST-MODIFIED:20201215T194008Z
UID:5673-1612432800-1612436400@bildlethbridge.ca
SUMMARY:Training & Education Committee / Marketing & Membership
DESCRIPTION:
URL:https://bildlethbridge.ca/event/training-education-committe-2021-02-04/
END:VEVENT
BEGIN:VEVENT
DTSTART;TZID=America/Edmonton:20210210T131500
DTEND;TZID=America/Edmonton:20210210T150000
DTSTAMP:20260421T132334
CREATED:20200214T002041Z
LAST-MODIFIED:20200214T002041Z
UID:5655-1612962900-1612969200@bildlethbridge.ca
SUMMARY:Developer Council
DESCRIPTION:
URL:https://bildlethbridge.ca/event/developer-council-2021-02-10/
END:VEVENT
BEGIN:VEVENT
DTSTART;TZID=America/Edmonton:20210211T090000
DTEND;TZID=America/Edmonton:20210211T110000
DTSTAMP:20260421T132334
CREATED:20200214T001247Z
LAST-MODIFIED:20200214T001247Z
UID:5664-1613034000-1613041200@bildlethbridge.ca
SUMMARY:Builder Council
DESCRIPTION:
URL:https://bildlethbridge.ca/event/builder-council-2021-02-11/
LOCATION:BILD Lethbridge boardroom / Zoom\, #14\, 495 WT Hill Blvd\, Lethbridge
END:VEVENT
BEGIN:VEVENT
DTSTART;TZID=America/Edmonton:20210225T110000
DTEND;TZID=America/Edmonton:20210225T130000
DTSTAMP:20260421T132334
CREATED:20200214T002157Z
LAST-MODIFIED:20200214T002157Z
UID:5646-1614250800-1614258000@bildlethbridge.ca
SUMMARY:Board of Directors
DESCRIPTION:
URL:https://bildlethbridge.ca/event/board-of-directors-2021-02-25/
END:VEVENT
BEGIN:VEVENT
DTSTART;TZID=America/Edmonton:20210225T160000
DTEND;TZID=America/Edmonton:20210225T173000
DTSTAMP:20260421T132334
CREATED:20201215T194326Z
LAST-MODIFIED:20210224T055507Z
UID:5944-1614268800-1614274200@bildlethbridge.ca
SUMMARY:Annual General Meeting
DESCRIPTION:You must pre-register HERE \nAgenda:\nUpdate from President Perry Neufeld and EO Bridget Mearns\n2019-2020 Financial Statement presented by BDO auditors Denis Sudo and Laina Verhorf\nBILD AB CEO Scott Fash – Year In Review
URL:https://bildlethbridge.ca/event/annual-general-meeting-3/
END:VEVENT
BEGIN:VEVENT
DTSTART;TZID=America/Edmonton:20210226T160000
DTEND;TZID=America/Edmonton:20210226T170000
DTSTAMP:20260421T132334
CREATED:20210224T055632Z
LAST-MODIFIED:20210226T165040Z
UID:6098-1614355200-1614358800@bildlethbridge.ca
SUMMARY:2020 Awards of Excellence in Housing
DESCRIPTION:Click to Watch Live on Youtube
URL:https://bildlethbridge.ca/event/2020-awards-of-excellence-in-housing/
END:VEVENT
END:VCALENDAR